BEGIN:VCALENDAR
VERSION:2.0
PRODID:-//Gemeinde Moßbach - ECPv6.15.17//NONSGML v1.0//EN
CALSCALE:GREGORIAN
METHOD:PUBLISH
X-WR-CALNAME:Gemeinde Moßbach
X-ORIGINAL-URL:https://mossbach.de
X-WR-CALDESC:Veranstaltungen für Gemeinde Moßbach
REFRESH-INTERVAL;VALUE=DURATION:PT1H
X-Robots-Tag:noindex
X-PUBLISHED-TTL:PT1H
BEGIN:VTIMEZONE
TZID:Europe/Berlin
BEGIN:DAYLIGHT
TZOFFSETFROM:+0100
TZOFFSETTO:+0200
TZNAME:CEST
DTSTART:20250330T010000
END:DAYLIGHT
BEGIN:STANDARD
TZOFFSETFROM:+0200
TZOFFSETTO:+0100
TZNAME:CET
DTSTART:20251026T010000
END:STANDARD
BEGIN:DAYLIGHT
TZOFFSETFROM:+0100
TZOFFSETTO:+0200
TZNAME:CEST
DTSTART:20260329T010000
END:DAYLIGHT
BEGIN:STANDARD
TZOFFSETFROM:+0200
TZOFFSETTO:+0100
TZNAME:CET
DTSTART:20261025T010000
END:STANDARD
BEGIN:DAYLIGHT
TZOFFSETFROM:+0100
TZOFFSETTO:+0200
TZNAME:CEST
DTSTART:20270328T010000
END:DAYLIGHT
BEGIN:STANDARD
TZOFFSETFROM:+0200
TZOFFSETTO:+0100
TZNAME:CET
DTSTART:20271031T010000
END:STANDARD
END:VTIMEZONE
BEGIN:VEVENT
DTSTART;VALUE=DATE:20260423
DTEND;VALUE=DATE:20260424
DTSTAMP:20260420T022132
CREATED:20260209T131757Z
LAST-MODIFIED:20260209T131757Z
UID:969-1776902400-1776988799@mossbach.de
SUMMARY:2. Schnuppertag Schulanfänger 2026
DESCRIPTION:
URL:https://mossbach.de/termin/2-schnuppertag-schulanfaenger-2026/
END:VEVENT
BEGIN:VEVENT
DTSTART;VALUE=DATE:20260424
DTEND;VALUE=DATE:20260425
DTSTAMP:20260420T022132
CREATED:20260209T131834Z
LAST-MODIFIED:20260209T131834Z
UID:971-1776988800-1777075199@mossbach.de
SUMMARY:Tag der offenen Tür Grundschule Moßbach
DESCRIPTION:
URL:https://mossbach.de/termin/tag-der-offenen-tuer-grundschule-mossbach/
END:VEVENT
BEGIN:VEVENT
DTSTART;VALUE=DATE:20260425
DTEND;VALUE=DATE:20260426
DTSTAMP:20260420T022132
CREATED:20260209T131916Z
LAST-MODIFIED:20260209T131916Z
UID:973-1777075200-1777161599@mossbach.de
SUMMARY:18.30 Uhr Fischabend Weisers
DESCRIPTION:
URL:https://mossbach.de/termin/18-30-uhr-fischabend-weisers/
END:VEVENT
BEGIN:VEVENT
DTSTART;VALUE=DATE:20260430
DTEND;VALUE=DATE:20260501
DTSTAMP:20260420T022132
CREATED:20260209T132022Z
LAST-MODIFIED:20260209T132022Z
UID:975-1777507200-1777593599@mossbach.de
SUMMARY:Maibaum stellen Dorfplatz\, Maifeuer und Tanz in den Mai -Sportplatz
DESCRIPTION:
URL:https://mossbach.de/termin/maibaum-stellen-dorfplatz-maifeuer-und-tanz-in-den-mai-sportplatz/
END:VEVENT
BEGIN:VEVENT
DTSTART;VALUE=DATE:20260503
DTEND;VALUE=DATE:20260504
DTSTAMP:20260420T022132
CREATED:20260209T132140Z
LAST-MODIFIED:20260209T132140Z
UID:977-1777766400-1777852799@mossbach.de
SUMMARY:Hammelkegeln
DESCRIPTION:
URL:https://mossbach.de/termin/hammelkegeln/
END:VEVENT
BEGIN:VEVENT
DTSTART;VALUE=DATE:20260507
DTEND;VALUE=DATE:20260508
DTSTAMP:20260420T022132
CREATED:20260209T132254Z
LAST-MODIFIED:20260209T132254Z
UID:979-1778112000-1778198399@mossbach.de
SUMMARY:Auftritt Schule Weisers- Behindertenverband
DESCRIPTION:
URL:https://mossbach.de/termin/auftritt-schule-weisers-behindertenverband/
END:VEVENT
BEGIN:VEVENT
DTSTART;VALUE=DATE:20260515
DTEND;VALUE=DATE:20260516
DTSTAMP:20260420T022132
CREATED:20260209T132322Z
LAST-MODIFIED:20260209T132322Z
UID:981-1778803200-1778889599@mossbach.de
SUMMARY:2. Brückentag Kindergarten
DESCRIPTION:
URL:https://mossbach.de/termin/2-brueckentag-kindergarten/
END:VEVENT
BEGIN:VEVENT
DTSTART;VALUE=DATE:20260518
DTEND;VALUE=DATE:20260519
DTSTAMP:20260420T022132
CREATED:20260209T132354Z
LAST-MODIFIED:20260209T132354Z
UID:983-1779062400-1779148799@mossbach.de
SUMMARY:Schulfreier Tag
DESCRIPTION:
URL:https://mossbach.de/termin/schulfreier-tag/
END:VEVENT
BEGIN:VEVENT
DTSTART;VALUE=DATE:20260522
DTEND;VALUE=DATE:20260523
DTSTAMP:20260420T022132
CREATED:20260209T132437Z
LAST-MODIFIED:20260209T132437Z
UID:985-1779408000-1779494399@mossbach.de
SUMMARY:Mutti + Vati Tag Kindergarten im Sportlerheim
DESCRIPTION:
URL:https://mossbach.de/termin/mutti-vati-tag-kindergarten-im-sportlerheim/
END:VEVENT
BEGIN:VEVENT
DTSTART;VALUE=DATE:20260524
DTEND;VALUE=DATE:20260525
DTSTAMP:20260420T022132
CREATED:20260209T132506Z
LAST-MODIFIED:20260209T132506Z
UID:987-1779580800-1779667199@mossbach.de
SUMMARY:Konfirmation
DESCRIPTION:
URL:https://mossbach.de/termin/konfirmation/
END:VEVENT
BEGIN:VEVENT
DTSTART;VALUE=DATE:20260526
DTEND;VALUE=DATE:20260527
DTSTAMP:20260420T022132
CREATED:20260209T132602Z
LAST-MODIFIED:20260209T132602Z
UID:989-1779753600-1779839999@mossbach.de
SUMMARY:3. Brückentag Kindergarten
DESCRIPTION:
URL:https://mossbach.de/termin/3-brueckentag-kindergarten/
END:VEVENT
BEGIN:VEVENT
DTSTART;VALUE=DATE:20260529
DTEND;VALUE=DATE:20260530
DTSTAMP:20260420T022132
CREATED:20260209T132647Z
LAST-MODIFIED:20260209T132647Z
UID:991-1780012800-1780099199@mossbach.de
SUMMARY:Abschlußpicknick Kindergarten
DESCRIPTION:
URL:https://mossbach.de/termin/abschlusspicknick-kindergarten/
END:VEVENT
BEGIN:VEVENT
DTSTART;VALUE=DATE:20260529
DTEND;VALUE=DATE:20260530
DTSTAMP:20260420T022132
CREATED:20260209T132805Z
LAST-MODIFIED:20260209T132805Z
UID:993-1780012800-1780099199@mossbach.de
SUMMARY:Braten an der FFW
DESCRIPTION:
URL:https://mossbach.de/termin/braten-an-der-ffw/
END:VEVENT
BEGIN:VEVENT
DTSTART;VALUE=DATE:20260531
DTEND;VALUE=DATE:20260601
DTSTAMP:20260420T022132
CREATED:20260209T132914Z
LAST-MODIFIED:20260209T132914Z
UID:995-1780185600-1780271999@mossbach.de
SUMMARY:14 Uhr Kinderfest auf dem Sportplatz
DESCRIPTION:
URL:https://mossbach.de/termin/14-uhr-kinderfest-auf-dem-sportplatz/
END:VEVENT
BEGIN:VEVENT
DTSTART;VALUE=DATE:20260601
DTEND;VALUE=DATE:20260602
DTSTAMP:20260420T022132
CREATED:20260209T133029Z
LAST-MODIFIED:20260209T133029Z
UID:997-1780272000-1780358399@mossbach.de
SUMMARY:Kindertagsfeier Kindergarten mit Überraschungsausflug
DESCRIPTION:
URL:https://mossbach.de/termin/kindertagsfeier-kindergarten-mit-ueberraschungsausflug/
END:VEVENT
BEGIN:VEVENT
DTSTART;VALUE=DATE:20260603
DTEND;VALUE=DATE:20260604
DTSTAMP:20260420T022132
CREATED:20260209T133109Z
LAST-MODIFIED:20260209T133109Z
UID:999-1780444800-1780531199@mossbach.de
SUMMARY:3. Schnuppertag Schulanfänger 2026 mit Eltern
DESCRIPTION:
URL:https://mossbach.de/termin/3-schnuppertag-schulanfaenger-2026-mit-eltern/
END:VEVENT
BEGIN:VEVENT
DTSTART;VALUE=DATE:20260613
DTEND;VALUE=DATE:20260614
DTSTAMP:20260420T022132
CREATED:20260209T133149Z
LAST-MODIFIED:20260209T133149Z
UID:1001-1781308800-1781395199@mossbach.de
SUMMARY:Vereinsfest SV Moßbach
DESCRIPTION:
URL:https://mossbach.de/termin/vereinsfest-sv-mossbach/
END:VEVENT
BEGIN:VEVENT
DTSTART;VALUE=DATE:20260618
DTEND;VALUE=DATE:20260619
DTSTAMP:20260420T022132
CREATED:20260209T133221Z
LAST-MODIFIED:20260209T133221Z
UID:1003-1781740800-1781827199@mossbach.de
SUMMARY:16 Uhr - 19 Uhr Blutspende Weisers
DESCRIPTION:
URL:https://mossbach.de/termin/16-uhr-19-uhr-blutspende-weisers-2/
END:VEVENT
BEGIN:VEVENT
DTSTART;VALUE=DATE:20260619
DTEND;VALUE=DATE:20260620
DTSTAMP:20260420T022132
CREATED:20260209T133253Z
LAST-MODIFIED:20260209T133253Z
UID:1005-1781827200-1781913599@mossbach.de
SUMMARY:Zuckertütenfest Kindergarten
DESCRIPTION:
URL:https://mossbach.de/termin/zuckertuetenfest-kindergarten/
END:VEVENT
BEGIN:VEVENT
DTSTART;VALUE=DATE:20260624
DTEND;VALUE=DATE:20260625
DTSTAMP:20260420T022132
CREATED:20260209T133353Z
LAST-MODIFIED:20260209T133353Z
UID:1007-1782259200-1782345599@mossbach.de
SUMMARY:Sportfest Grundschule + SVM auf dem Sportplatz
DESCRIPTION:
URL:https://mossbach.de/termin/sportfest-grundschule-svm-auf-dem-sportplatz/
END:VEVENT
BEGIN:VEVENT
DTSTART;VALUE=DATE:20260626
DTEND;VALUE=DATE:20260627
DTSTAMP:20260420T022132
CREATED:20260209T133420Z
LAST-MODIFIED:20260209T133420Z
UID:1009-1782432000-1782518399@mossbach.de
SUMMARY:Braten an der FFW
DESCRIPTION:
URL:https://mossbach.de/termin/braten-an-der-ffw-2/
END:VEVENT
BEGIN:VEVENT
DTSTART;VALUE=DATE:20260627
DTEND;VALUE=DATE:20260628
DTSTAMP:20260420T022132
CREATED:20260209T133450Z
LAST-MODIFIED:20260209T133450Z
UID:1011-1782518400-1782604799@mossbach.de
SUMMARY:18.30 Uhr Fischabend Weisers
DESCRIPTION:
URL:https://mossbach.de/termin/18-30-uhr-fischabend-weisers-2/
END:VEVENT
BEGIN:VEVENT
DTSTART;VALUE=DATE:20260627
DTEND;VALUE=DATE:20260628
DTSTAMP:20260420T022132
CREATED:20260209T133533Z
LAST-MODIFIED:20260209T133533Z
UID:1013-1782518400-1782604799@mossbach.de
SUMMARY:Nachwuchsturnier SVM Sportplatz
DESCRIPTION:
URL:https://mossbach.de/termin/nachwuchsturnier-svm-sportplatz/
END:VEVENT
BEGIN:VEVENT
DTSTART;VALUE=DATE:20260628
DTEND;VALUE=DATE:20260629
DTSTAMP:20260420T022132
CREATED:20260209T133551Z
LAST-MODIFIED:20260209T133551Z
UID:1015-1782604800-1782691199@mossbach.de
SUMMARY:Nachwuchsturnier SVM Sportplatz
DESCRIPTION:
URL:https://mossbach.de/termin/nachwuchsturnier-svm-sportplatz-2/
END:VEVENT
BEGIN:VEVENT
DTSTART;VALUE=DATE:20260706
DTEND;VALUE=DATE:20260711
DTSTAMP:20260420T022132
CREATED:20260209T133725Z
LAST-MODIFIED:20260209T133725Z
UID:1017-1783296000-1783727999@mossbach.de
SUMMARY:Fußballferiencamp SVM
DESCRIPTION:
URL:https://mossbach.de/termin/fussballferiencamp-svm/
END:VEVENT
BEGIN:VEVENT
DTSTART;VALUE=DATE:20260724
DTEND;VALUE=DATE:20260725
DTSTAMP:20260420T022132
CREATED:20260209T133854Z
LAST-MODIFIED:20260209T133854Z
UID:1019-1784851200-1784937599@mossbach.de
SUMMARY:Sommerfest SVM - Sportplatz
DESCRIPTION:
URL:https://mossbach.de/termin/sommerfest-svm-sportplatz/
END:VEVENT
BEGIN:VEVENT
DTSTART;VALUE=DATE:20260815
DTEND;VALUE=DATE:20260816
DTSTAMP:20260420T022132
CREATED:20260209T133923Z
LAST-MODIFIED:20260209T133923Z
UID:1021-1786752000-1786838399@mossbach.de
SUMMARY:Schuleinführung
DESCRIPTION:
URL:https://mossbach.de/termin/schuleinfuehrung/
END:VEVENT
BEGIN:VEVENT
DTSTART;VALUE=DATE:20260821
DTEND;VALUE=DATE:20260824
DTSTAMP:20260420T022132
CREATED:20260209T134028Z
LAST-MODIFIED:20260209T134028Z
UID:1023-1787270400-1787529599@mossbach.de
SUMMARY:Festveranstaltung 700. Jahrfeier + 70 Jahre Kindergarten
DESCRIPTION:
URL:https://mossbach.de/termin/festveranstaltung-700-jahrfeier-70-jahre-kindergarten/
END:VEVENT
BEGIN:VEVENT
DTSTART;TZID=Europe/Berlin:20260821T190000
DTEND;TZID=Europe/Berlin:20260821T233000
DTSTAMP:20260420T022132
CREATED:20260226T133713Z
LAST-MODIFIED:20260226T135032Z
UID:1077-1787338800-1787355000@mossbach.de
SUMMARY:Heimatabend
DESCRIPTION:Begrüßung\, Heimatabend\, Disco
URL:https://mossbach.de/termin/heimatabend/
CATEGORIES:700 Jahre Moßbach
END:VEVENT
BEGIN:VEVENT
DTSTART;TZID=Europe/Berlin:20260822T100000
DTEND;TZID=Europe/Berlin:20260822T160000
DTSTAMP:20260420T022132
CREATED:20260226T133814Z
LAST-MODIFIED:20260226T133814Z
UID:1079-1787392800-1787414400@mossbach.de
SUMMARY:Offene Höfe\, buntes Dorf und Markttreiben
DESCRIPTION:
URL:https://mossbach.de/termin/offene-hoefe-buntes-dorf-und-markttreiben/
CATEGORIES:700 Jahre Moßbach
END:VEVENT
END:VCALENDAR